BEGIN:VCALENDAR
PRODID:-//eluceo/ical//2.0/EN
VERSION:2.0
CALSCALE:GREGORIAN
BEGIN:VEVENT
UID:735ab77052ef2f8684637150266c3429
DTSTAMP:20260422T083713Z
SUMMARY:23.10 2018 Fundur 12
DESCRIPTION:
URL:https://heradsbuar.rotary1360.is/is/agenda/show/393
DTSTART;TZID=Iceland:20181023T180000
DTEND;TZID=Iceland:20181023T193000
LOCATION:Hótel Hérað\nMiðvangi 5-7\n700 Egilsstaðir\n
CATEGORIES:Rotary
END:VEVENT
BEGIN:VTIMEZONE
TZID:Iceland
BEGIN:STANDARD
DTSTART:20181023T180000
TZNAME:GMT
TZOFFSETTO:+0000
TZOFFSETFROM:+0000
END:STANDARD
END:VTIMEZONE
END:VCALENDAR
