BEGIN:VCALENDAR
PRODID:-//eluceo/ical//2.0/EN
VERSION:2.0
CALSCALE:GREGORIAN
BEGIN:VEVENT
UID:46f5b945aea09b5755e4851fc3c894f1
DTSTAMP:20260419T123031Z
SUMMARY:Fundur 11-2794
DESCRIPTION:
URL:https://heradsbuar.rotary1360.is/is/agenda/show/3323
DTSTART;TZID=Iceland:20211008T191000
DTEND;TZID=Iceland:20211008T211500
LOCATION:Hótel Hérað\nMiðvangi 5-7\n700 Egilsstaðir\n
CATEGORIES:Rotary
END:VEVENT
BEGIN:VTIMEZONE
TZID:Iceland
BEGIN:STANDARD
DTSTART:20211008T191000
TZNAME:GMT
TZOFFSETTO:+0000
TZOFFSETFROM:+0000
END:STANDARD
END:VTIMEZONE
END:VCALENDAR
