BEGIN:VCALENDAR
PRODID:-//eluceo/ical//2.0/EN
VERSION:2.0
CALSCALE:GREGORIAN
BEGIN:VEVENT
UID:dd2988303900482e1977714982b3eaba
DTSTAMP:20260420T110611Z
SUMMARY:16.10 2018 Fundur nr. 11
DESCRIPTION:
URL:https://heradsbuar.rotary1360.is/is/agenda/show/311
DTSTART;TZID=Iceland:20181016T180000
DTEND;TZID=Iceland:20181016T193000
LOCATION:Hótel Hérað\nMiðvangi 5-7\n700 Egilsstaðir\n
CATEGORIES:Rotary
END:VEVENT
BEGIN:VTIMEZONE
TZID:Iceland
BEGIN:STANDARD
DTSTART:20181016T180000
TZNAME:GMT
TZOFFSETTO:+0000
TZOFFSETFROM:+0000
END:STANDARD
END:VTIMEZONE
END:VCALENDAR
