BEGIN:VCALENDAR
PRODID:-//eluceo/ical//2.0/EN
VERSION:2.0
CALSCALE:GREGORIAN
BEGIN:VEVENT
UID:28f6d6954eab00c367e443eeb9708cbe
DTSTAMP:20260420T132037Z
SUMMARY:Fundur 19-2768
DESCRIPTION:
URL:https://heradsbuar.rotary1360.is/is/agenda/show/2693
DTSTART;TZID=Iceland:20210216T180500
DTEND;TZID=Iceland:20210216T190500
LOCATION:Hótel Hérað\nMiðvangi 5-7\n700 Egilsstaðir\n
CATEGORIES:Rotary
END:VEVENT
BEGIN:VTIMEZONE
TZID:Iceland
BEGIN:STANDARD
DTSTART:20210216T180500
TZNAME:GMT
TZOFFSETTO:+0000
TZOFFSETFROM:+0000
END:STANDARD
END:VTIMEZONE
END:VCALENDAR
