BEGIN:VCALENDAR
PRODID:-//eluceo/ical//2.0/EN
VERSION:2.0
CALSCALE:GREGORIAN
BEGIN:VEVENT
UID:7544bb0f76db16d92ed26ba7de986ad8
DTSTAMP:20260421T135912Z
SUMMARY:Fundur nr.39
DESCRIPTION:
URL:https://heradsbuar.rotary1360.is/is/agenda/show/1011
DTSTART;TZID=Iceland:20190507T180000
DTEND;TZID=Iceland:20190507T192000
LOCATION:Hótel Hérað\nMiðvangi 5-7\n700 Egilsstaðir\n
CATEGORIES:Rotary
END:VEVENT
BEGIN:VTIMEZONE
TZID:Iceland
BEGIN:STANDARD
DTSTART:20190507T180000
TZNAME:GMT
TZOFFSETTO:+0000
TZOFFSETFROM:+0000
END:STANDARD
END:VTIMEZONE
END:VCALENDAR
