BEGIN:VCALENDAR
PRODID:-//eluceo/ical//2.0/EN
VERSION:2.0
CALSCALE:GREGORIAN
BEGIN:VEVENT
UID:26058094eb5b2d5caa5509cb7a3bc45f
DTSTAMP:20260420T105753Z
SUMMARY:04.09 2018 Fundur nr. 5
DESCRIPTION:
URL:https://heradsbuar.rotary1360.is/en/agenda/show/303
DTSTART;TZID=Iceland:20180904T180000
DTEND;TZID=Iceland:20180904T193000
LOCATION:Hótel Hérað\nMiðvangi 5-7\n700 Egilsstaðir\n
CATEGORIES:Rotary
END:VEVENT
BEGIN:VTIMEZONE
TZID:Iceland
BEGIN:STANDARD
DTSTART:20180904T180000
TZNAME:GMT
TZOFFSETTO:+0000
TZOFFSETFROM:+0000
END:STANDARD
END:VTIMEZONE
END:VCALENDAR
